BEGIN:VCALENDAR
VERSION:2.0
PRODID:-//wp-events-plugin.com//7.2.3//EN
TZID:Europe/Berlin
X-WR-TIMEZONE:Europe/Berlin
BEGIN:VEVENT
UID:156@fleischwarenwulff.de
DTSTART;TZID=Europe/Berlin:20260212T100000
DTEND;TZID=Europe/Berlin:20260213T170000
DTSTAMP:20260106T101241Z
URL:https://www.fleischwarenwulff.de/events/wenns-schnell-und-lecker-gehen
 -muss/
SUMMARY:Wenn’s schnell und lecker gehen muss
DESCRIPTION:Currywurst\, Bratwurst oder Kartoffelsalat – eine schnelle Ma
 hlzeit geht immer.
CATEGORIES:Sonderaktion
END:VEVENT
BEGIN:VTIMEZONE
TZID:Europe/Berlin
X-LIC-LOCATION:Europe/Berlin
BEGIN:STANDARD
DTSTART:20251026T020000
TZOFFSETFROM:+0200
TZOFFSETTO:+0100
TZNAME:CET
END:STANDARD
END:VTIMEZONE
END:VCALENDAR