BEGIN:VCALENDAR
VERSION:2.0
PRODID:-//wp-events-plugin.com//7.2.3//EN
TZID:Europe/Berlin
X-WR-TIMEZONE:Europe/Berlin
BEGIN:VEVENT
UID:144@fleischwarenwulff.de
DTSTART;TZID=Europe/Berlin;VALUE=DATE:20251225
DTEND;TZID=Europe/Berlin;VALUE=DATE:20251227
DTSTAMP:20251024T123144Z
URL:https://www.fleischwarenwulff.de/events/weihnachten/
SUMMARY:Weihnachten
DESCRIPTION:
CATEGORIES:geschlossen
END:VEVENT
BEGIN:VTIMEZONE
TZID:Europe/Berlin
X-LIC-LOCATION:Europe/Berlin
BEGIN:STANDARD
DTSTART:20251026T020000
TZOFFSETFROM:+0200
TZOFFSETTO:+0100
TZNAME:CET
END:STANDARD
END:VTIMEZONE
END:VCALENDAR