BEGIN:VCALENDAR
VERSION:2.0
PRODID:-//wp-events-plugin.com//7.2.3//EN
TZID:Europe/Berlin
X-WR-TIMEZONE:Europe/Berlin
BEGIN:VEVENT
UID:127@fleischwarenwulff.de
DTSTART;TZID=Europe/Berlin:20251029T100000
DTEND;TZID=Europe/Berlin:20251230T170000
DTSTAMP:20251024T130957Z
URL:https://www.fleischwarenwulff.de/events/sonderoeffnungszeiten/
SUMMARY:SONDERÖFFNUNG
DESCRIPTION:
END:VEVENT
BEGIN:VTIMEZONE
TZID:Europe/Berlin
X-LIC-LOCATION:Europe/Berlin
BEGIN:STANDARD
DTSTART:20251026T020000
TZOFFSETFROM:+0200
TZOFFSETTO:+0100
TZNAME:CET
END:STANDARD
END:VTIMEZONE
END:VCALENDAR