BEGIN:VCALENDAR
VERSION:2.0
PRODID:-//wp-events-plugin.com//7.2.3//EN
TZID:Europe/Berlin
X-WR-TIMEZONE:Europe/Berlin
BEGIN:VEVENT
UID:154@fleischwarenwulff.de
DTSTART;TZID=Europe/Berlin:20260115T100000
DTEND;TZID=Europe/Berlin:20260116T170000
DTSTAMP:20260106T095928Z
URL:https://www.fleischwarenwulff.de/events/schwein-gehabt/
SUMMARY:Schwein gehabt
DESCRIPTION:Alles rund ums Schwein zum Sonderpreis:\nSchnitzel\, Gulasch\, 
 Dicke Rippe\, Schweinebraten und mehr …
CATEGORIES:Sonderaktion
END:VEVENT
BEGIN:VTIMEZONE
TZID:Europe/Berlin
X-LIC-LOCATION:Europe/Berlin
BEGIN:STANDARD
DTSTART:20251026T020000
TZOFFSETFROM:+0200
TZOFFSETTO:+0100
TZNAME:CET
END:STANDARD
END:VTIMEZONE
END:VCALENDAR