BEGIN:VCALENDAR
VERSION:2.0
PRODID:-//wp-events-plugin.com//7.2.3//EN
TZID:Europe/Berlin
X-WR-TIMEZONE:Europe/Berlin
BEGIN:VEVENT
UID:152@fleischwarenwulff.de
DTSTART;TZID=Europe/Berlin:20251222T100000
DTEND;TZID=Europe/Berlin:20251223T170000
DTSTAMP:20251212T110258Z
URL:https://www.fleischwarenwulff.de/events/schlesische-weisse-bratwurst/
SUMMARY:Schlesische weiße Bratwurst
DESCRIPTION:Der Weihnachts-Klassiker zum Fest!
CATEGORIES:Sonderaktion
END:VEVENT
BEGIN:VTIMEZONE
TZID:Europe/Berlin
X-LIC-LOCATION:Europe/Berlin
BEGIN:STANDARD
DTSTART:20251026T020000
TZOFFSETFROM:+0200
TZOFFSETTO:+0100
TZNAME:CET
END:STANDARD
END:VTIMEZONE
END:VCALENDAR