BEGIN:VCALENDAR
VERSION:2.0
PRODID:-//wp-events-plugin.com//7.2.3//EN
TZID:Europe/Berlin
X-WR-TIMEZONE:Europe/Berlin
BEGIN:VEVENT
UID:599@fleischwarenwulff.de
DTSTART;TZID=Europe/Berlin:20260305T100000
DTEND;TZID=Europe/Berlin:20260306T170000
DTSTAMP:20260225T103601Z
URL:https://www.fleischwarenwulff.de/events/nicht-nur-herzhaft-sondern-auc
 h-prickelnd/
SUMMARY:Nicht nur herzhaft\, sondern auch prickelnd.
DESCRIPTION:Blubberwasser zum Probieren und Mitnehmen. Verschiedene Sorten.
  – LIMITIERTE AKTION – 
CATEGORIES:Sonderaktion
END:VEVENT
BEGIN:VTIMEZONE
TZID:Europe/Berlin
X-LIC-LOCATION:Europe/Berlin
BEGIN:STANDARD
DTSTART:20251026T020000
TZOFFSETFROM:+0200
TZOFFSETTO:+0100
TZNAME:CET
END:STANDARD
END:VTIMEZONE
END:VCALENDAR