BEGIN:VCALENDAR
VERSION:2.0
PRODID:-//wp-events-plugin.com//7.2.3//EN
TZID:Europe/Berlin
X-WR-TIMEZONE:Europe/Berlin
BEGIN:VEVENT
UID:160@fleischwarenwulff.de
DTSTART;TZID=Europe/Berlin;VALUE=DATE:20260403
DTEND;TZID=Europe/Berlin;VALUE=DATE:20260404
DTSTAMP:20260217T084821Z
URL:https://www.fleischwarenwulff.de/events/karfreitag/
SUMMARY:Karfreitag
DESCRIPTION:
CATEGORIES:geschlossen
END:VEVENT
BEGIN:VTIMEZONE
TZID:Europe/Berlin
X-LIC-LOCATION:Europe/Berlin
BEGIN:DAYLIGHT
DTSTART:20260329T030000
TZOFFSETFROM:+0100
TZOFFSETTO:+0200
TZNAME:CEST
END:DAYLIGHT
END:VTIMEZONE
END:VCALENDAR