BEGIN:VCALENDAR
VERSION:2.0
PRODID:-//wp-events-plugin.com//7.2.3//EN
TZID:Europe/Berlin
X-WR-TIMEZONE:Europe/Berlin
BEGIN:VEVENT
UID:620@fleischwarenwulff.de
DTSTART;TZID=Europe/Berlin:20260528T100000
DTEND;TZID=Europe/Berlin:20260529T170000
DTSTAMP:20260414T083906Z
URL:https://www.fleischwarenwulff.de/events/handwerker-mahlzeit/
SUMMARY:Handwerker-Mahlzeit
DESCRIPTION:Exklusiv-Rabatt für Handwerker auf den Einkauf im Werksverkauf
  und beim Imbiss (vor Ort &amp\; To-Go)
CATEGORIES:Sonderaktion
END:VEVENT
BEGIN:VTIMEZONE
TZID:Europe/Berlin
X-LIC-LOCATION:Europe/Berlin
BEGIN:DAYLIGHT
DTSTART:20260329T030000
TZOFFSETFROM:+0100
TZOFFSETTO:+0200
TZNAME:CEST
END:DAYLIGHT
END:VTIMEZONE
END:VCALENDAR