BEGIN:VCALENDAR
VERSION:2.0
PRODID:-//wp-events-plugin.com//7.2.3//EN
TZID:Europe/Berlin
X-WR-TIMEZONE:Europe/Berlin
BEGIN:VEVENT
UID:615@fleischwarenwulff.de
DTSTART;TZID=Europe/Berlin:20260416T100000
DTEND;TZID=Europe/Berlin:20260417T170000
DTSTAMP:20260408T061536Z
URL:https://www.fleischwarenwulff.de/events/grill-genuss-mit-steak-vielfal
 t/
SUMMARY:Grill Genuss mit Steak-Vielfalt
DESCRIPTION:Nacken-\, Lachs-\, Puten- oder Hähnchen-Steak – für Zuhause
  oder mit Brötchen oder Salat am Imbisswagen.
CATEGORIES:Sonderaktion
END:VEVENT
BEGIN:VTIMEZONE
TZID:Europe/Berlin
X-LIC-LOCATION:Europe/Berlin
BEGIN:DAYLIGHT
DTSTART:20260329T030000
TZOFFSETFROM:+0100
TZOFFSETTO:+0200
TZNAME:CEST
END:DAYLIGHT
END:VTIMEZONE
END:VCALENDAR