BEGIN:VCALENDAR
VERSION:2.0
PRODID:-//wp-events-plugin.com//7.2.3//EN
TZID:Europe/Berlin
X-WR-TIMEZONE:Europe/Berlin
BEGIN:VEVENT
UID:611@fleischwarenwulff.de
DTSTART;TZID=Europe/Berlin:20260521T100000
DTEND;TZID=Europe/Berlin:20260522T170000
DTSTAMP:20260313T140131Z
URL:https://www.fleischwarenwulff.de/events/fruehlingsaktion-12/
SUMMARY:Frühlingsaktion
DESCRIPTION:Wer mit einem Oldtimer vorbeikommt\, erhält eine Packung “Gl
 ühkerzen” gratis.
CATEGORIES:Sonderaktion
END:VEVENT
BEGIN:VTIMEZONE
TZID:Europe/Berlin
X-LIC-LOCATION:Europe/Berlin
BEGIN:DAYLIGHT
DTSTART:20260329T030000
TZOFFSETFROM:+0100
TZOFFSETTO:+0200
TZNAME:CEST
END:DAYLIGHT
END:VTIMEZONE
END:VCALENDAR