BEGIN:VCALENDAR
VERSION:2.0
PRODID:-//wp-events-plugin.com//7.2.3//EN
TZID:Europe/Berlin
X-WR-TIMEZONE:Europe/Berlin
BEGIN:VEVENT
UID:621@fleischwarenwulff.de
DTSTART;TZID=Europe/Berlin:20260611T100000
DTEND;TZID=Europe/Berlin:20260612T170000
DTSTAMP:20260414T084013Z
URL:https://www.fleischwarenwulff.de/events/die-bihun-suppe-schmeckt-immer
 -und-ueberall/
SUMMARY:Die Bihun-Suppe schmeckt immer und überall.
DESCRIPTION:Vor der Urlaubszeit noch einmal mit der original Indonesia Bihu
 n-Suppe eindecken.
CATEGORIES:Sonderaktion
END:VEVENT
BEGIN:VTIMEZONE
TZID:Europe/Berlin
X-LIC-LOCATION:Europe/Berlin
BEGIN:DAYLIGHT
DTSTART:20260329T030000
TZOFFSETFROM:+0100
TZOFFSETTO:+0200
TZNAME:CEST
END:DAYLIGHT
END:VTIMEZONE
END:VCALENDAR