BEGIN:VCALENDAR
VERSION:2.0
PRODID:-//wp-events-plugin.com//7.2.3//EN
TZID:Europe/Berlin
X-WR-TIMEZONE:Europe/Berlin
BEGIN:VEVENT
UID:147@fleischwarenwulff.de
DTSTART;TZID=Europe/Berlin:20251106T100000
DTEND;TZID=Europe/Berlin:20251107T170000
DTSTAMP:20251027T083931Z
URL:https://www.fleischwarenwulff.de/events/bihun-suppe-perfekt-fuer-die-k
 alten-tage/
SUMMARY:Bihun-Suppe – perfekt für die kalten Tage!
DESCRIPTION:Letztmalige Gelegenheit\, sich in diesem Jahr zum Sonderpreis e
 inzudecken!
CATEGORIES:Sonderaktion
END:VEVENT
BEGIN:VTIMEZONE
TZID:Europe/Berlin
X-LIC-LOCATION:Europe/Berlin
BEGIN:STANDARD
DTSTART:20251026T020000
TZOFFSETFROM:+0200
TZOFFSETTO:+0100
TZNAME:CET
END:STANDARD
END:VTIMEZONE
END:VCALENDAR