BEGIN:VCALENDAR
VERSION:2.0
PRODID:-//wp-events-plugin.com//7.2.3//EN
TZID:Europe/Berlin
X-WR-TIMEZONE:Europe/Berlin
BEGIN:VEVENT
UID:155@fleischwarenwulff.de
DTSTART;TZID=Europe/Berlin:20260129T100000
DTEND;TZID=Europe/Berlin:20260130T170000
DTSTAMP:20260106T101149Z
URL:https://www.fleischwarenwulff.de/events/alles-fuer-die-suppe-und-den-e
 intopf/
SUMMARY:Alles für die Suppe und den Eintopf
DESCRIPTION:Bullen-Brust mit Knochen\, Rinder-Fleischknochen\, Dicke Rippe 
 vom Schwein\, Rinder-Beinfleisch\, Kasseler Kamm und magerer Schweine-Bauc
 h
CATEGORIES:Sonderaktion
END:VEVENT
BEGIN:VTIMEZONE
TZID:Europe/Berlin
X-LIC-LOCATION:Europe/Berlin
BEGIN:STANDARD
DTSTART:20251026T020000
TZOFFSETFROM:+0200
TZOFFSETTO:+0100
TZNAME:CET
END:STANDARD
END:VTIMEZONE
END:VCALENDAR